BEGIN:VCALENDAR
VERSION:2.0
PRODID:-//Tantrazentrum-Leipzig - ECPv6.15.16//NONSGML v1.0//EN
CALSCALE:GREGORIAN
METHOD:PUBLISH
X-ORIGINAL-URL:https://www.tantrazentrum-leipzig.de
X-WR-CALDESC:Veranstaltungen für Tantrazentrum-Leipzig
REFRESH-INTERVAL;VALUE=DURATION:PT1H
X-Robots-Tag:noindex
X-PUBLISHED-TTL:PT1H
BEGIN:VTIMEZONE
TZID:Europe/Berlin
BEGIN:DAYLIGHT
TZOFFSETFROM:+0100
TZOFFSETTO:+0200
TZNAME:CEST
DTSTART:20170326T010000
END:DAYLIGHT
BEGIN:STANDARD
TZOFFSETFROM:+0200
TZOFFSETTO:+0100
TZNAME:CET
DTSTART:20171029T010000
END:STANDARD
BEGIN:DAYLIGHT
TZOFFSETFROM:+0100
TZOFFSETTO:+0200
TZNAME:CEST
DTSTART:20180325T010000
END:DAYLIGHT
BEGIN:STANDARD
TZOFFSETFROM:+0200
TZOFFSETTO:+0100
TZNAME:CET
DTSTART:20181028T010000
END:STANDARD
BEGIN:DAYLIGHT
TZOFFSETFROM:+0100
TZOFFSETTO:+0200
TZNAME:CEST
DTSTART:20190331T010000
END:DAYLIGHT
BEGIN:STANDARD
TZOFFSETFROM:+0200
TZOFFSETTO:+0100
TZNAME:CET
DTSTART:20191027T010000
END:STANDARD
END:VTIMEZONE
BEGIN:VEVENT
DTSTART;TZID=Europe/Berlin:20180817T184500
DTEND;TZID=Europe/Berlin:20180817T184500
DTSTAMP:20260419T164403
CREATED:20180707T102326Z
LAST-MODIFIED:20180707T102515Z
UID:1488-1534531500-1534531500@www.tantrazentrum-leipzig.de
SUMMARY:Conscious Connection
DESCRIPTION:Wir wollen gemeinsam mit euch einen Raum schaffen\, in dem Menschen sich ganz authentisch begegnen können. Es ist eine Gelegenheit\, andere und dich selbst auf neue Art kennenzulernen. Zeig dich mit dem\, was im Moment da ist\, in Spielen zu zweit und in der ganzen Gruppe. Wenn wir uns näher kennengelernt haben und Vertrauen entstanden ist\, gehen wir über in Spiele mit bewusster Berührung. \nMeist gibt es einen thematischen Schwerpunkt\, z.B. Grenzen wahrnehmen und zeigen\, Wünsche äußern\, Angebote machen… \nMehr bei https://www.ailu.eu/conscious-connection/ \n 
URL:https://www.tantrazentrum-leipzig.de/event/conscious-connection/
LOCATION:Sinn & Sein\, Zschochersche Straße 2a\, \, Leipzig\, 04177 
ATTACH;FMTTYPE=image/png:https://www.tantrazentrum-leipzig.de/wp-content/uploads/2016/03/silbe_om.png
END:VEVENT
END:VCALENDAR