BEGIN:VCALENDAR
VERSION:2.0
PRODID:-//Tantrazentrum-Leipzig - ECPv6.15.16//NONSGML v1.0//EN
CALSCALE:GREGORIAN
METHOD:PUBLISH
X-WR-CALNAME:Tantrazentrum-Leipzig
X-ORIGINAL-URL:https://www.tantrazentrum-leipzig.de
X-WR-CALDESC:Veranstaltungen für Tantrazentrum-Leipzig
REFRESH-INTERVAL;VALUE=DURATION:PT1H
X-Robots-Tag:noindex
X-PUBLISHED-TTL:PT1H
BEGIN:VTIMEZONE
TZID:Europe/Berlin
BEGIN:DAYLIGHT
TZOFFSETFROM:+0100
TZOFFSETTO:+0200
TZNAME:CEST
DTSTART:20190331T010000
END:DAYLIGHT
BEGIN:STANDARD
TZOFFSETFROM:+0200
TZOFFSETTO:+0100
TZNAME:CET
DTSTART:20191027T010000
END:STANDARD
BEGIN:DAYLIGHT
TZOFFSETFROM:+0100
TZOFFSETTO:+0200
TZNAME:CEST
DTSTART:20200329T010000
END:DAYLIGHT
BEGIN:STANDARD
TZOFFSETFROM:+0200
TZOFFSETTO:+0100
TZNAME:CET
DTSTART:20201025T010000
END:STANDARD
BEGIN:DAYLIGHT
TZOFFSETFROM:+0100
TZOFFSETTO:+0200
TZNAME:CEST
DTSTART:20210328T010000
END:DAYLIGHT
BEGIN:STANDARD
TZOFFSETFROM:+0200
TZOFFSETTO:+0100
TZNAME:CET
DTSTART:20211031T010000
END:STANDARD
END:VTIMEZONE
BEGIN:VEVENT
DTSTART;TZID=Europe/Berlin:20200813T173000
DTEND;TZID=Europe/Berlin:20200816T130000
DTSTAMP:20260420T114950
CREATED:20200803T134815Z
LAST-MODIFIED:20200803T134815Z
UID:2401-1597339800-1597582800@www.tantrazentrum-leipzig.de
SUMMARY:Wonnefrau
DESCRIPTION:„Dein Körper ist der Tempel deiner Seele und deine Lust ist die Blüte deiner Liebe!“ (Mara Fricke-Wirth) \n \nIn der Traumzeit mit Varinja und der Selbsterforschung mit Mara habt ihr Raum aktuelle Themen rund um Selbstakzeptanz\, Körperlichkeit\, Intimität und weibliche Spiritualität mit anderen Frauen zu teilen und euch Feedback und Anregungen zu holen. \nMehr bei Secret-of-Tantra
URL:https://www.tantrazentrum-leipzig.de/event/wonnefrau-7/
LOCATION:Zegg\, Bad-Belzig\, Rosa-Luxemburg-Str. 85\, Bad Belzig\, 14806\, Deutschland
ATTACH;FMTTYPE=image/gif:https://www.tantrazentrum-leipzig.de/wp-content/uploads/2016/03/SOT-Logo.gif
ORGANIZER;CN="Secret-of-Tantra":MAILTO:kontakt@secret-of-tantra.de
END:VEVENT
END:VCALENDAR