BEGIN:VCALENDAR
VERSION:2.0
PRODID:-//Tantrazentrum-Leipzig - ECPv6.15.16//NONSGML v1.0//EN
CALSCALE:GREGORIAN
METHOD:PUBLISH
X-ORIGINAL-URL:https://www.tantrazentrum-leipzig.de
X-WR-CALDESC:Veranstaltungen für Tantrazentrum-Leipzig
REFRESH-INTERVAL;VALUE=DURATION:PT1H
X-Robots-Tag:noindex
X-PUBLISHED-TTL:PT1H
BEGIN:VTIMEZONE
TZID:Europe/Berlin
BEGIN:DAYLIGHT
TZOFFSETFROM:+0100
TZOFFSETTO:+0200
TZNAME:CEST
DTSTART:20190331T010000
END:DAYLIGHT
BEGIN:STANDARD
TZOFFSETFROM:+0200
TZOFFSETTO:+0100
TZNAME:CET
DTSTART:20191027T010000
END:STANDARD
BEGIN:DAYLIGHT
TZOFFSETFROM:+0100
TZOFFSETTO:+0200
TZNAME:CEST
DTSTART:20200329T010000
END:DAYLIGHT
BEGIN:STANDARD
TZOFFSETFROM:+0200
TZOFFSETTO:+0100
TZNAME:CET
DTSTART:20201025T010000
END:STANDARD
BEGIN:DAYLIGHT
TZOFFSETFROM:+0100
TZOFFSETTO:+0200
TZNAME:CEST
DTSTART:20210328T010000
END:DAYLIGHT
BEGIN:STANDARD
TZOFFSETFROM:+0200
TZOFFSETTO:+0100
TZNAME:CET
DTSTART:20211031T010000
END:STANDARD
END:VTIMEZONE
BEGIN:VEVENT
DTSTART;TZID=Europe/Berlin:20200920T140000
DTEND;TZID=Europe/Berlin:20200920T190000
DTSTAMP:20260420T152111
CREATED:20200804T140317Z
LAST-MODIFIED:20200804T140317Z
UID:2420-1600610400-1600628400@www.tantrazentrum-leipzig.de
SUMMARY:Tempel-Heil-Massage
DESCRIPTION:Vertiefe die Verbindung mit deinem Körper als dem Ort deiner Spiritualität \nZeremonie in Anknüpfung an traditionelle Tempel-Heilung \nDie alten Tempel waren Orte\, die die Menschen u.a. dann aufsuchten\, wenn ihr Körper oder Energiekörper aus dem Gleichgewicht gekommen waren. Je eher eine leichte Irritation gespürt und erkannt wird\, desto leichter kann sie wiederhergestellt werden. \n​Die Priesterinnen-Heilerinnen spürten die Orte im Körper und Energiekörper auf\, an denen die Irritation saß. \nMehr bei Claudia Hoffmann \n​
URL:https://www.tantrazentrum-leipzig.de/event/tempel-heil-massage/
LOCATION:Tempel der Göttin\, Windorferstraße 5\, Leipzig\, 04229 
ATTACH;FMTTYPE=image/jpeg:https://www.tantrazentrum-leipzig.de/wp-content/uploads/2018/04/TempelDerGoettin.jpg
END:VEVENT
END:VCALENDAR