BEGIN:VCALENDAR
VERSION:2.0
PRODID:-//Tantrazentrum-Leipzig - ECPv6.15.16//NONSGML v1.0//EN
CALSCALE:GREGORIAN
METHOD:PUBLISH
X-ORIGINAL-URL:https://www.tantrazentrum-leipzig.de
X-WR-CALDESC:Veranstaltungen für Tantrazentrum-Leipzig
REFRESH-INTERVAL;VALUE=DURATION:PT1H
X-Robots-Tag:noindex
X-PUBLISHED-TTL:PT1H
BEGIN:VTIMEZONE
TZID:Europe/Berlin
BEGIN:DAYLIGHT
TZOFFSETFROM:+0100
TZOFFSETTO:+0200
TZNAME:CEST
DTSTART:20190331T010000
END:DAYLIGHT
BEGIN:STANDARD
TZOFFSETFROM:+0200
TZOFFSETTO:+0100
TZNAME:CET
DTSTART:20191027T010000
END:STANDARD
BEGIN:DAYLIGHT
TZOFFSETFROM:+0100
TZOFFSETTO:+0200
TZNAME:CEST
DTSTART:20200329T010000
END:DAYLIGHT
BEGIN:STANDARD
TZOFFSETFROM:+0200
TZOFFSETTO:+0100
TZNAME:CET
DTSTART:20201025T010000
END:STANDARD
BEGIN:DAYLIGHT
TZOFFSETFROM:+0100
TZOFFSETTO:+0200
TZNAME:CEST
DTSTART:20210328T010000
END:DAYLIGHT
BEGIN:STANDARD
TZOFFSETFROM:+0200
TZOFFSETTO:+0100
TZNAME:CET
DTSTART:20211031T010000
END:STANDARD
END:VTIMEZONE
BEGIN:VEVENT
DTSTART;TZID=Europe/Berlin:20201008T173000
DTEND;TZID=Europe/Berlin:20201011T173000
DTSTAMP:20260424T120917
CREATED:20200803T135345Z
LAST-MODIFIED:20200803T135345Z
UID:2405-1602178200-1602437400@www.tantrazentrum-leipzig.de
SUMMARY:Shivas Erwachen - tantrisches Männerseminar
DESCRIPTION:„Der Schlüssel zur Kraft des Mannes liegt unter dem Kopfkissen deiner Mutter“\n(vgl. Robert Bly\, Der Eisenhans) \nIn diesem intensiven Männerseminar mit tantrischem Hintergrund kannst du dir im Spiegel des brüderlichen Kreises der Männer tiefe Fragen zu deinem Leben und deinem Kontakt zum Weiblichen stellen. \nIn einer Welt der weichgespülten und domestizierten Männlichkeit brauchen wir Räume mit anderen Männern\, um uns wieder an unsere archaische Kraft anzuschließen.\nWir beheimaten wir uns im tantrischen Kreis unter Männern.Wir erobern uns unsere archaische Kraft und Wildheit zurück\, verbinden sie bewusst mit unserer sensitiven Seite und stärken so den Energiefluss zwischen Sex und Herz. \nMehr bei Secret-of-Tantra
URL:https://www.tantrazentrum-leipzig.de/event/shivas-erwachen-tantrisches-maennerseminar-2/
LOCATION:Zegg\, Bad-Belzig\, Rosa-Luxemburg-Str. 85\, Bad Belzig\, 14806\, Deutschland
ATTACH;FMTTYPE=image/gif:https://www.tantrazentrum-leipzig.de/wp-content/uploads/2016/03/SOT-Logo.gif
ORGANIZER;CN="Secret-of-Tantra":MAILTO:kontakt@secret-of-tantra.de
END:VEVENT
BEGIN:VEVENT
DTSTART;TZID=Europe/Berlin:20201008T180000
DTEND;TZID=Europe/Berlin:20201011T180000
DTSTAMP:20260424T120917
CREATED:20191104T152515Z
LAST-MODIFIED:20200702T201205Z
UID:2098-1602180000-1602439200@www.tantrazentrum-leipzig.de
SUMMARY:Analmassage intensiv
DESCRIPTION:Die Analmassage ist gleichermaßen heilend wie lustvoll! Vertiefe Dein Wissen und hole Dir neue Ideen und Insprirationen: Tausche Dich mit anderen Könnern aus und entwickle Dich und Deine Massage weiter!\nWir werden mit Euch in entspannter Atmosphäre tief in das Thema eintauchen und ihre reichen Erfahrungen und ihr Wissen an diesem Intensiv-Wochenende mit Euch teilen.\nMehr bei Diamond Lotus
URL:https://www.tantrazentrum-leipzig.de/event/analmassage-intensiv-4/
LOCATION:Diamond Lotus\, Berlin\, Bautzener Str. 3\, Berlin\, 10829\, Deutschland
CATEGORIES:Tantrakalender
ATTACH;FMTTYPE=image/png:https://www.tantrazentrum-leipzig.de/wp-content/uploads/2016/03/diamondLotus_a.png
ORGANIZER;CN="Diamond Lotus%2C Berlin":MAILTO:anfrage@diamond-lotus.de
END:VEVENT
END:VCALENDAR