BEGIN:VCALENDAR
VERSION:2.0
PRODID:-//Tantrazentrum-Leipzig - ECPv6.15.16//NONSGML v1.0//EN
CALSCALE:GREGORIAN
METHOD:PUBLISH
X-ORIGINAL-URL:https://www.tantrazentrum-leipzig.de
X-WR-CALDESC:Veranstaltungen für Tantrazentrum-Leipzig
REFRESH-INTERVAL;VALUE=DURATION:PT1H
X-Robots-Tag:noindex
X-PUBLISHED-TTL:PT1H
BEGIN:VTIMEZONE
TZID:Europe/Berlin
BEGIN:DAYLIGHT
TZOFFSETFROM:+0100
TZOFFSETTO:+0200
TZNAME:CEST
DTSTART:20200329T010000
END:DAYLIGHT
BEGIN:STANDARD
TZOFFSETFROM:+0200
TZOFFSETTO:+0100
TZNAME:CET
DTSTART:20201025T010000
END:STANDARD
BEGIN:DAYLIGHT
TZOFFSETFROM:+0100
TZOFFSETTO:+0200
TZNAME:CEST
DTSTART:20210328T010000
END:DAYLIGHT
BEGIN:STANDARD
TZOFFSETFROM:+0200
TZOFFSETTO:+0100
TZNAME:CET
DTSTART:20211031T010000
END:STANDARD
BEGIN:DAYLIGHT
TZOFFSETFROM:+0100
TZOFFSETTO:+0200
TZNAME:CEST
DTSTART:20220327T010000
END:DAYLIGHT
BEGIN:STANDARD
TZOFFSETFROM:+0200
TZOFFSETTO:+0100
TZNAME:CET
DTSTART:20221030T010000
END:STANDARD
END:VTIMEZONE
BEGIN:VEVENT
DTSTART;TZID=Europe/Berlin:20210422T150000
DTEND;TZID=Europe/Berlin:20210425T180000
DTSTAMP:20260424T184655
CREATED:20210309T164741Z
LAST-MODIFIED:20210309T165935Z
UID:2572-1619103600-1619373600@www.tantrazentrum-leipzig.de
SUMMARY:Love Camp - mit Steffi und Erik Engelhardt
DESCRIPTION:Du kennst eine Sehnsucht nach MEHR – in der Liebe\, beim Sex\, in deinen Beziehungen?\nMEHR Intensität\, MEHR Nahrung\, MEHR Verbindung?\nDu wünschst dir einen geschützten Raum\, in dem du mit deinen Fragen und Hoffnungen\, deinem Sehnen und deinen Verletzungen Geborgenheit findest und dich traust\, sanft und offen neue Wege zu wagen?\nDu bist in einer Beziehung oder wünschst Dir eine Partnerschaft\, Du willst Dich darin entwickeln\, Rückenwind bekommen und eine intensive Zeit erleben? Sei dabei! \nIn unserem LOVE CAMP kannst du lernen\, wie sich sexuelle Kraft durch Bewusstsein und Aufmerksamkeit in Liebe verwandelt. Wir widmen uns drei großen Feldern: der energetisch-sexuellen Anatomie – dabei lernst Du sexuelle Energie zu steuern und in Deinem Körper auch unabhängig vom Sex für Heilung\, Vitalisierung und Regeneration zu nutzen. Grundlagen intimer Berührung und intuitiver Begegnung helfen Dir gelingende Begegnungen und nährende Berührung zu erfahren. Intime Kommunikation ist das Ausdrucksinstrument – über Worte und über den Körper\, nicht nur in sexueller Begegnung und Liebesbeziehung sondern in allen Alltagsfeldern. Dabei üben wir auch\, die immer authentische Kommunikation unseres eigenen Körpers zu verstehen\, Gefühle und Emotionen anzunehmen\, auszudrücken und dadurch richtige Entscheidungen für uns zu fällen. \nIn unserem LOVE CAMP will eine Gruppe zusammenwachsen\, Erfahrungen teilen und den Reichtum feiern\, der da ist. Wir möchten ausdrücklich auch Menschen mit Kindern zu unserem Seminar einladen. Wir haben eine wunderbare Kinderbetreuung. Der Ort bietet tolle Möglichkeiten zum Spielen z.B. in einem großen Garten. \nDu wirst durch das LOVE CAMP in Deinem Wesen gestärkt\, erlebst sicher einige AHA´s\, die dich an deine Wurzeln\, deine Sehnsüchte erinnern und Dir Wege aufzeigen.\nWir arbeiten mit radikal positiven Lebenshaltungen\, wie du sie vielleicht als Kind kanntest\, gegenüber deinem Körper und der Liebe\, einer für das Leben und zukünftige Ereignisse unwiderstehlich attraktiven Ausrichtung. \nBitte nimm Kontakt mit uns auf wenn du Fragen hast und lerne uns kennen\, per Email\, per Telefon \nSteffi: 0176-22814118\nErik: 0162-6067994\nYoga.for.lovers@gmail.com \nwww.liebe-machen.info \nAnmeldung und weiter Information bei:\nhttps://ananda-hof.de/tribe_event/love-camp-17-20-10-2019/ \nZeitrahmen: Donnerstag 15:00 Uhr – Sonntag 18:00 Uhr \nSeminarkosten: 220-250€ (nach Selbsteinschätzung)\nzzgl. Verpflegung Vollpension vegan ab Donnerstag Abend bis Sonntag Mittag 90 €\nzzgl. Übernachtung für alle drei Tage pro Person:\n– 45 € im eigenen Zelt oder Auto\n– 60 € Schlafsaal\n– 75 € Familienzimmer mit 3 Betten oder Zirkuswagen mit 2 Betten\n– 90 € Doppelzimmer (Doppelbett) \nKinder: zzgl. 80- 100€ (nach Selbsteinschätzung) pro Kind für Essen und Betreuung\, Übernachtung nach Absprache
URL:https://www.tantrazentrum-leipzig.de/event/love-camp-mit-steffi-und-erik-engelhardt/
LOCATION:Ananda-Hof\, Kirchweg 3\, Reinsberg OT Burkersdorf\, 09629\, Deutschland
ATTACH;FMTTYPE=image/jpeg:https://www.tantrazentrum-leipzig.de/wp-content/uploads/2020/08/LiebeMachen-info.jpg
ORGANIZER;CN="Liebe-machen.info":MAILTO:yoga.for.lovers@gmail.com
END:VEVENT
END:VCALENDAR