BEGIN:VCALENDAR
VERSION:2.0
PRODID:-//Tantrazentrum-Leipzig - ECPv6.15.16//NONSGML v1.0//EN
CALSCALE:GREGORIAN
METHOD:PUBLISH
X-WR-CALNAME:Tantrazentrum-Leipzig
X-ORIGINAL-URL:https://www.tantrazentrum-leipzig.de
X-WR-CALDESC:Veranstaltungen für Tantrazentrum-Leipzig
REFRESH-INTERVAL;VALUE=DURATION:PT1H
X-Robots-Tag:noindex
X-PUBLISHED-TTL:PT1H
BEGIN:VTIMEZONE
TZID:Europe/Berlin
BEGIN:DAYLIGHT
TZOFFSETFROM:+0100
TZOFFSETTO:+0200
TZNAME:CEST
DTSTART:20170326T010000
END:DAYLIGHT
BEGIN:STANDARD
TZOFFSETFROM:+0200
TZOFFSETTO:+0100
TZNAME:CET
DTSTART:20171029T010000
END:STANDARD
BEGIN:DAYLIGHT
TZOFFSETFROM:+0100
TZOFFSETTO:+0200
TZNAME:CEST
DTSTART:20180325T010000
END:DAYLIGHT
BEGIN:STANDARD
TZOFFSETFROM:+0200
TZOFFSETTO:+0100
TZNAME:CET
DTSTART:20181028T010000
END:STANDARD
BEGIN:DAYLIGHT
TZOFFSETFROM:+0100
TZOFFSETTO:+0200
TZNAME:CEST
DTSTART:20190331T010000
END:DAYLIGHT
BEGIN:STANDARD
TZOFFSETFROM:+0200
TZOFFSETTO:+0100
TZNAME:CET
DTSTART:20191027T010000
END:STANDARD
END:VTIMEZONE
BEGIN:VEVENT
DTSTART;TZID=Europe/Berlin:20180530T180000
DTEND;TZID=Europe/Berlin:20180603T180000
DTSTAMP:20260423T170912
CREATED:20171031T121048Z
LAST-MODIFIED:20171031T125302Z
UID:1239-1527703200-1528048800@www.tantrazentrum-leipzig.de
SUMMARY:Tantra Training 2 mit Andro
DESCRIPTION:Im 2. Modul des Tantratrainings mit Andro geht es um Spannung. Spannung in Deinem Körper\, in Deinen Bewegungen\, Deinem Fühlen und Deinem Denken. Spannung erzeugen\, halten und loslassen sind die physischen Voraussetzungen für tiefes Erleben.\nMehr bei Diamond Lotus
URL:https://www.tantrazentrum-leipzig.de/event/tantra-training-2-mit-andro/
LOCATION:Diamond Lotus\, Berlin\, Bautzener Str. 3\, Berlin\, 10829\, Deutschland
CATEGORIES:Tantrakalender
ATTACH;FMTTYPE=image/png:https://www.tantrazentrum-leipzig.de/wp-content/uploads/2016/03/diamondLotus_a.png
ORGANIZER;CN="Diamond Lotus%2C Berlin":MAILTO:anfrage@diamond-lotus.de
END:VEVENT
BEGIN:VEVENT
DTSTART;TZID=Europe/Berlin:20180608T170000
DTEND;TZID=Europe/Berlin:20180610T170000
DTSTAMP:20260423T170912
CREATED:20171129T140806Z
LAST-MODIFIED:20180608T082557Z
UID:1272-1528477200-1528650000@www.tantrazentrum-leipzig.de
SUMMARY:Tantra Einsteigerwochenende
DESCRIPTION:Wie stärke ich die Beziehung zu mir selbst\, meinem Körper und zum Gegenüber? \nAusgebucht! \nTantra ist ein Beziehungs-Yoga und schafft Räume\, in denen die Liebe und Verbindung zu dir und anderen wachsen kann. Wir wollen uns der Erfahrung von Einheit nähern. \nDafür werden wir grundlegende tantrische Methoden kennen lernen und praktizieren. Asanas für körperliche Fittnes\, Pranayama (Atemübungen) zur Energetisierung und Reinigung\, und Meditationen um zur Ruhe zu kommen. Mantras öffnen unser Herz und einige alte indische Geschichten und Götter inspirieren den Geist. \nWeiter werden wir Sinnlichkeit\, Berührungsqualität\, Nacktheit und unserer Sexualität zum Thema machen. Tanz  wird zur authentischen\, absichtslosen Bewegung. Wir üben unsere eigenen Grenzen besser wahr zu nehmen\, zu wahren und nach unserem eigenen Willen achtsam zu verändern. Ebenso wichtig ist\, unsere Bedürfnisse\, Gefühle und Emotionen differenziert wahr zu nehmen und daraus bewusst Entscheidungen für unser Handeln abzuleiten. Im geschützten Rahmen des Workshops können wir uns auszuprobieren. \nLeitung: Helfried und Soluna\nTermin: 8.-10.6.2018\nZeit: Fr ab 17:00 bis So\, ca. 17 Uhr \nOrt: Yogaladen-Leipzig\,\nStefan-Zweig-Str. 21\, 04178 Leipzig \nKosten? Spende!\n \nSeminare brauchen gute Vorbereitung und Qualifikation. Wir können und wollen ein hochwertiges Seminar nicht verschenken\, aber wie viel Wert das Geld für dich hat ist bei den Teilnehmern breit gestreut und erfahrungsgemäß oft sogar Einkommensunabhängig. Wir vertrauen auf deine Wertschätzung für unsere Arbeit. Wir bitten für das Wochenende um eine Anzahlung von 110€ (die Hälfte der sonst üblichen Seminargebühr)\, da die Verbindlichkeit leider bei Spendenveranstaltungen oft zu wünschen übrig lässt. Du bekommst das Geld auf dem Seminar zurück und gibst dann so viel Spende\, wie für dich stimmig ist. \nZu deiner Spende kommen Kosten für Unterkunft und Verpflegung. Wir verpflegen uns selbst (ca. 10€/Tag)\, oder lassen uns bekochen (25€/Tag\, wenn sich die Mehrheit dafür entscheidet). Übernachtung im Gruppenraum kostet 8€/Nacht. \nAnmeldung per Mail oder Formular \nWir achten auf ausgeglichenes Geschlechterverhältnis\, daher kann es sein\, das du zunächst auf der Warteliste landest. Inhaltlich entspricht ein Wochend-Einsteigerkurs und ein Massage-Wochenende ungefähr dem 8-Wochen-Einsteigerkurs.
URL:https://www.tantrazentrum-leipzig.de/event/tantra-einsteigerwochenende/
LOCATION:Yogaladen-Leipzig\, Stefan-Zweig-Str. 21\, Leipzig\, 04178\, Deutschland
ATTACH;FMTTYPE=image/png:https://www.tantrazentrum-leipzig.de/wp-content/uploads/2016/03/cropped-0911_tantraLoutusFrei-e1458056095516.png
END:VEVENT
BEGIN:VEVENT
DTSTART;TZID=Europe/Berlin:20180611T190000
DTEND;TZID=Europe/Berlin:20180611T220000
DTSTAMP:20260423T170912
CREATED:20180515T062756Z
LAST-MODIFIED:20180515T062756Z
UID:1469-1528743600-1528754400@www.tantrazentrum-leipzig.de
SUMMARY:Sinnliche Vereinigung
DESCRIPTION:An diesem praxisorientierten\, tantrischen Abend erlernen wir Methoden\, die dabei helfen\, eine tiefe Verbindung zum Gegenüber aufzubauen. Vorwiegend in Partnerübungen werden wir uns mit Energiearbeit\, Atmung\, Meditation\, Berührung\, Bewusstheit und Feingefühl auseinandersetzen. Auch Elemente aus Bewegung und Tanz fließen mit ein. \nHinweis: Sexuelle Handlungen sind an diesem Abend ausgeschlossen. \nEs bietet sich an\, eine/n PartnerIn mitzubringen\, mit dem Du die Übungen gerne gemeinsam ausprobieren möchtest. Wenn Du allein bist\, melde dich aber trotzdem an. Erfahrungsgemäß findet sich jemand für Dich vor Ort\, auch wenn wir das nicht garantieren können. Bitte kommt frisch geduscht zu der Veranstaltung. \nBitte folgendes mitbringen:\n– 1 Bettlaken/großes Tuch\n– 1 gr. Handtuch\n– 1 kl. Handtuch\n– Lunghi\n– Massageöl und Tablett (zum Draufstellen)\n– lockere Kleidung\n– kleine Snacks (für die Pause)\n– ggf. Schreibunterlagen \nKosten: 10€ pro Person + Raumspende \nAnmelden bei: ra.asur@posteo.de \nMehr Infos zu meiner Person und weitere Angebote findet ihr hier: \nfb.me/johannesraasur \nIch freue mich auf einen tollen gemeinsamen Abend. \nherzlichst\nJohannes Ra Asur
URL:https://www.tantrazentrum-leipzig.de/event/sinnliche-vereinigung/
LOCATION:Yogaladen-Leipzig\, Stefan-Zweig-Str. 21\, Leipzig\, 04178\, Deutschland
ATTACH;FMTTYPE=image/jpeg:https://www.tantrazentrum-leipzig.de/wp-content/uploads/2018/03/EnergeticSex_johannesVondey.jpg
END:VEVENT
BEGIN:VEVENT
DTSTART;TZID=Europe/Berlin:20180612T180000
DTEND;TZID=Europe/Berlin:20180620T180000
DTSTAMP:20260423T170912
CREATED:20171031T120023Z
LAST-MODIFIED:20171031T125302Z
UID:1236-1528826400-1529517600@www.tantrazentrum-leipzig.de
SUMMARY:Ausbildung zur Tantramassage nach Andro Level 1
DESCRIPTION:In diesem Kurs lernst Du die Grundlagen der Tantramassage nach Andro kennen\, die keineswegs nur aus Techniken bestehen\, sondern auch emotionale Erfahrungs- und Reifeprozesse beinhalten. Die verehrende Haltung steht dabei im Mitelpunkt.\nDieser Kurs ist auch für Interessenten geeignet\, welche die Ausbildung nicht beruflich nutzen möchten oder erst einmal nur privat reinschnuppern wollen.\nMehr bei Diamond Lotus
URL:https://www.tantrazentrum-leipzig.de/event/ausbildung-zur-tantramassage-nach-andro-level-1-4/
LOCATION:Diamond Lotus\, Berlin\, Bautzener Str. 3\, Berlin\, 10829\, Deutschland
CATEGORIES:Tantrakalender
ATTACH;FMTTYPE=image/png:https://www.tantrazentrum-leipzig.de/wp-content/uploads/2016/03/diamondLotus_a.png
ORGANIZER;CN="Diamond Lotus%2C Berlin":MAILTO:anfrage@diamond-lotus.de
END:VEVENT
BEGIN:VEVENT
DTSTART;TZID=Europe/Berlin:20180618T183000
DTEND;TZID=Europe/Berlin:20180618T223000
DTSTAMP:20260423T170912
CREATED:20180421T202412Z
LAST-MODIFIED:20180516T134449Z
UID:1428-1529346600-1529361000@www.tantrazentrum-leipzig.de
SUMMARY:The Art of Loving - mit Guru Bhaneshwaranand
DESCRIPTION:WAS SIE ERWARTEN DÜRFEN \n– Erfahren Sie Tantra als Technologie zur Lebensverbesserung\n– Erhalten Sie ein Mantra das auf Sie persönlich zugeschnitten ist\n– Erleben Sie einen Energietransfer mit Quellenenergie\n– Baden Sie sich im Energiefeld einer starken Wunscherfüllungs-Zeremonie\n– Nehmen Sie Teil an einer Frage & Antwort Session\n– Lassen Sie den Abend mit Speis und Trank ausklingen\n– Haben Sie Gelegenheit für ein privates Gespräch mit Guru Bhaneshwaranand\n– Erhalten Sie sein neues Buch handsigniert \nMehr bei Bhaneshwaranand \n 
URL:https://www.tantrazentrum-leipzig.de/event/the-art-of-loving-mit-guru-bhaneshwaranand/
LOCATION:Im-Einklang\, Leipzig\, Deutschland
ATTACH;FMTTYPE=image/jpeg:https://www.tantrazentrum-leipzig.de/wp-content/uploads/2018/04/Bhaneshwaranand.jpg
END:VEVENT
BEGIN:VEVENT
DTSTART;TZID=Europe/Berlin:20180629T170000
DTEND;TZID=Europe/Berlin:20180701T160000
DTSTAMP:20260423T170912
CREATED:20180622T162413Z
LAST-MODIFIED:20180622T162413Z
UID:1476-1530291600-1530460800@www.tantrazentrum-leipzig.de
SUMMARY:Bodywork - Unwinding Workshop
DESCRIPTION:Fühle Dich frei & auf Händen getragen!\nFür alle neugierigen Neulinge\, oder Erfahrene Erforscher des physischen und emotionalen Seins…\nUNWINDING ist ein faszinierender\, ursprünglicher Impuls des Körpers\, um schockartige oder auch traumatische Zustände aufzulösen. Dieser Faszienprozess stammt aus der cranio-sacralen Osteopathie. Er macht sich das Gedächtnis des Körpers zunutze. Tatsächlich kennt jedes Säugetier diese Möglichkeit der Selbstheilung.\nUnser Körper vergisst nicht\, wie es zu Verkrampfungen und Traumata gekommen ist. Und unser Körper kennt auch den Weg zurück\, in den ursprünglich befreiten und entspannten Zustand…..\nmehr Infos… https://nullraum.berlin/unwinding-gruppe/ \nUnter meiner Anleitung und in enger Zusammenarbeit mit der Gruppe kannst du eine wunderschöne befreiende Körpererfahrung erleben\, die du nie mehr vergessen wirst. Durch die intensive Zusammenarbeit als Gruppe kannst du neue Kontakte knüpfen und bekommst einen tiefen Einblick in dich und andere\, der zuweilen unter die Haut geht. Das alles findet in einem sehr bewussten\, liebevollen und geborgenen Raum statt\, der jedem erlauben soll sich in seiner Geschwindigkeit darauf einzulassen\, was passieren will. \nKosten: 240€ normal\nErmäßigung: 200€ für Einkommen bis 1500 €\,\n120 € für Geringverdiener unter 800 € monatlich.\nPreise zuzüglich U&V (übernachtung im Gruppenraum 8€/Nacht\, Selbstverpflegung ca. 10€/Tag\, oder 25€ wenn wir mehrheitlich entscheiden und bekochen zu lassen) \nLeitung: Helen (Assistenz: Helfried) \nAnmeldungen zu Mir: 0176 44660055 oder Anmeldeformular\nStefan-Zweig-Str. 21\n04178 Leipzig\nTelefon: 0341- 4429 0957
URL:https://www.tantrazentrum-leipzig.de/event/bodywork-unwinding-workshop/
LOCATION:Yogaladen-Leipzig\, Stefan-Zweig-Str. 21\, Leipzig\, 04178\, Deutschland
ORGANIZER;CN="Tantrazentrum-Leipzig":MAILTO:info (ät) helfried.de
END:VEVENT
BEGIN:VEVENT
DTSTART;TZID=Europe/Berlin:20180629T170000
DTEND;TZID=Europe/Berlin:20180701T170000
DTSTAMP:20260423T170912
CREATED:20180104T223806Z
LAST-MODIFIED:20180104T223806Z
UID:1331-1530291600-1530464400@www.tantrazentrum-leipzig.de
SUMMARY:Geheimnisse der Lebenslust
DESCRIPTION:Das Seminar: „Geheimnisse der Lebenslust“ ist ideal für Einsteiger. Du kannst ohne vorherige Erfahrung mit Seminaren daran teilnehmen\, denn die systematischen Übungen nehmen dir die Erarbeitung der Vorkenntnisse ab! \nAnmeldung und mehr bei Secret-of-Tantra …
URL:https://www.tantrazentrum-leipzig.de/event/geheimnisse-der-lebenslust-20/
LOCATION:Zegg\, Bad-Belzig\, Rosa-Luxemburg-Str. 85\, Bad Belzig\, 14806\, Deutschland
ATTACH;FMTTYPE=image/gif:https://www.tantrazentrum-leipzig.de/wp-content/uploads/2016/03/SOT-Logo.gif
ORGANIZER;CN="Secret-of-Tantra":MAILTO:kontakt@secret-of-tantra.de
END:VEVENT
BEGIN:VEVENT
DTSTART;TZID=Europe/Berlin:20180630T190000
DTEND;TZID=Europe/Berlin:20180630T210000
DTSTAMP:20260423T170913
CREATED:20180423T164549Z
LAST-MODIFIED:20180423T211801Z
UID:1434-1530385200-1530392400@www.tantrazentrum-leipzig.de
SUMMARY:Kleine Nacht der spirituellen Lieder
DESCRIPTION:Schon eine Tradition für die spirituelle Szene in Leipzig sind die jährlichen Mitsing-Konzerte. Dieses mal wieder in der in der Kirche Dreiskau-Muckern. \nMehr bei: https://www.leipziger-liedernacht.de/
URL:https://www.tantrazentrum-leipzig.de/event/nacht-der-spirituellen-lieder-4/
LOCATION:Kirche Dreiskau-Muckern\, An der Kirche 4\, Dreiskau-Muckern\, 04463
ATTACH;FMTTYPE=image/png:https://www.tantrazentrum-leipzig.de/wp-content/uploads/2016/03/Musik.png
END:VEVENT
END:VCALENDAR