BEGIN:VCALENDAR
VERSION:2.0
PRODID:-//Tantrazentrum-Leipzig - ECPv6.15.16//NONSGML v1.0//EN
CALSCALE:GREGORIAN
METHOD:PUBLISH
X-ORIGINAL-URL:https://www.tantrazentrum-leipzig.de
X-WR-CALDESC:Veranstaltungen für Tantrazentrum-Leipzig
REFRESH-INTERVAL;VALUE=DURATION:PT1H
X-Robots-Tag:noindex
X-PUBLISHED-TTL:PT1H
BEGIN:VTIMEZONE
TZID:Europe/Berlin
BEGIN:DAYLIGHT
TZOFFSETFROM:+0100
TZOFFSETTO:+0200
TZNAME:CEST
DTSTART:20170326T010000
END:DAYLIGHT
BEGIN:STANDARD
TZOFFSETFROM:+0200
TZOFFSETTO:+0100
TZNAME:CET
DTSTART:20171029T010000
END:STANDARD
BEGIN:DAYLIGHT
TZOFFSETFROM:+0100
TZOFFSETTO:+0200
TZNAME:CEST
DTSTART:20180325T010000
END:DAYLIGHT
BEGIN:STANDARD
TZOFFSETFROM:+0200
TZOFFSETTO:+0100
TZNAME:CET
DTSTART:20181028T010000
END:STANDARD
BEGIN:DAYLIGHT
TZOFFSETFROM:+0100
TZOFFSETTO:+0200
TZNAME:CEST
DTSTART:20190331T010000
END:DAYLIGHT
BEGIN:STANDARD
TZOFFSETFROM:+0200
TZOFFSETTO:+0100
TZNAME:CET
DTSTART:20191027T010000
END:STANDARD
END:VTIMEZONE
BEGIN:VEVENT
DTSTART;TZID=Europe/Berlin:20180629T170000
DTEND;TZID=Europe/Berlin:20180701T160000
DTSTAMP:20260421T122336
CREATED:20180622T162413Z
LAST-MODIFIED:20180622T162413Z
UID:1476-1530291600-1530460800@www.tantrazentrum-leipzig.de
SUMMARY:Bodywork - Unwinding Workshop
DESCRIPTION:Fühle Dich frei & auf Händen getragen!\nFür alle neugierigen Neulinge\, oder Erfahrene Erforscher des physischen und emotionalen Seins…\nUNWINDING ist ein faszinierender\, ursprünglicher Impuls des Körpers\, um schockartige oder auch traumatische Zustände aufzulösen. Dieser Faszienprozess stammt aus der cranio-sacralen Osteopathie. Er macht sich das Gedächtnis des Körpers zunutze. Tatsächlich kennt jedes Säugetier diese Möglichkeit der Selbstheilung.\nUnser Körper vergisst nicht\, wie es zu Verkrampfungen und Traumata gekommen ist. Und unser Körper kennt auch den Weg zurück\, in den ursprünglich befreiten und entspannten Zustand…..\nmehr Infos… https://nullraum.berlin/unwinding-gruppe/ \nUnter meiner Anleitung und in enger Zusammenarbeit mit der Gruppe kannst du eine wunderschöne befreiende Körpererfahrung erleben\, die du nie mehr vergessen wirst. Durch die intensive Zusammenarbeit als Gruppe kannst du neue Kontakte knüpfen und bekommst einen tiefen Einblick in dich und andere\, der zuweilen unter die Haut geht. Das alles findet in einem sehr bewussten\, liebevollen und geborgenen Raum statt\, der jedem erlauben soll sich in seiner Geschwindigkeit darauf einzulassen\, was passieren will. \nKosten: 240€ normal\nErmäßigung: 200€ für Einkommen bis 1500 €\,\n120 € für Geringverdiener unter 800 € monatlich.\nPreise zuzüglich U&V (übernachtung im Gruppenraum 8€/Nacht\, Selbstverpflegung ca. 10€/Tag\, oder 25€ wenn wir mehrheitlich entscheiden und bekochen zu lassen) \nLeitung: Helen (Assistenz: Helfried) \nAnmeldungen zu Mir: 0176 44660055 oder Anmeldeformular\nStefan-Zweig-Str. 21\n04178 Leipzig\nTelefon: 0341- 4429 0957
URL:https://www.tantrazentrum-leipzig.de/event/bodywork-unwinding-workshop/
LOCATION:Yogaladen-Leipzig\, Stefan-Zweig-Str. 21\, Leipzig\, 04178\, Deutschland
ORGANIZER;CN="Tantrazentrum-Leipzig":MAILTO:info (ät) helfried.de
END:VEVENT
BEGIN:VEVENT
DTSTART;TZID=Europe/Berlin:20180629T170000
DTEND;TZID=Europe/Berlin:20180701T170000
DTSTAMP:20260421T122336
CREATED:20180104T223806Z
LAST-MODIFIED:20180104T223806Z
UID:1331-1530291600-1530464400@www.tantrazentrum-leipzig.de
SUMMARY:Geheimnisse der Lebenslust
DESCRIPTION:Das Seminar: „Geheimnisse der Lebenslust“ ist ideal für Einsteiger. Du kannst ohne vorherige Erfahrung mit Seminaren daran teilnehmen\, denn die systematischen Übungen nehmen dir die Erarbeitung der Vorkenntnisse ab! \nAnmeldung und mehr bei Secret-of-Tantra …
URL:https://www.tantrazentrum-leipzig.de/event/geheimnisse-der-lebenslust-20/
LOCATION:Zegg\, Bad-Belzig\, Rosa-Luxemburg-Str. 85\, Bad Belzig\, 14806\, Deutschland
ATTACH;FMTTYPE=image/gif:https://www.tantrazentrum-leipzig.de/wp-content/uploads/2016/03/SOT-Logo.gif
ORGANIZER;CN="Secret-of-Tantra":MAILTO:kontakt@secret-of-tantra.de
END:VEVENT
BEGIN:VEVENT
DTSTART;TZID=Europe/Berlin:20180705T160000
DTEND;TZID=Europe/Berlin:20180708T170000
DTSTAMP:20260421T122336
CREATED:20180104T224201Z
LAST-MODIFIED:20180104T224201Z
UID:1332-1530806400-1531069200@www.tantrazentrum-leipzig.de
SUMMARY:Wonnefrau – Pfad der Göttin
DESCRIPTION:„Dein Körper ist der Tempel deiner Seele und deine Lust ist die Blüte deiner Liebe!“ \nIm Seminar Wonnefrau möchten wir einen Raum schaffen\, in dem deine innere Quelle sich reinigen kann. Reinigen von dem Druck des „ich sollte mehr geben\, ich sollte anders/besser sein“ des Alltags und unserer Beziehungen in dem wir Frauen oftmals verlieren\, weil wir Angst haben sonst nicht geliebt zu werden.  … \nHöhepunkt wird ein gemeinsames Ölritual sein\, baden in der goldenen Essenz unserer Weiblichkeit! \nMehr Information und Anmeldung bei Secret-of-Tantra…
URL:https://www.tantrazentrum-leipzig.de/event/wonnefrau-pfad-der-goettin-2/
LOCATION:Zegg\, Bad-Belzig\, Rosa-Luxemburg-Str. 85\, Bad Belzig\, 14806\, Deutschland
ATTACH;FMTTYPE=image/gif:https://www.tantrazentrum-leipzig.de/wp-content/uploads/2016/03/SOT-Logo.gif
ORGANIZER;CN="Secret-of-Tantra":MAILTO:kontakt@secret-of-tantra.de
END:VEVENT
BEGIN:VEVENT
DTSTART;TZID=Europe/Berlin:20180705T180000
DTEND;TZID=Europe/Berlin:20180708T180000
DTSTAMP:20260421T122336
CREATED:20171031T124027Z
LAST-MODIFIED:20180824T093539Z
UID:1249-1530813600-1531072800@www.tantrazentrum-leipzig.de
SUMMARY:Analmassage intensiv
DESCRIPTION:Die Analmassage ist gleichermaßen heilend wie lustvoll! Vertiefe Dein Wissen und hole Dir neue Ideen und Insprirationen: Tausche Dich mit anderen Könnern aus und entwickle Dich und Deine Massage weiter!\nWir werden mit Euch in entspannter Atmosphäre tief in das Thema eintauchen und ihre reichen Erfahrungen und ihr Wissen an diesem Intensiv-Wochenende mit Euch teilen.\nMehr bei Diamond Lotus
URL:https://www.tantrazentrum-leipzig.de/event/analmassage-intensiv-2/
LOCATION:Diamond Lotus\, Berlin\, Bautzener Str. 3\, Berlin\, 10829\, Deutschland
CATEGORIES:Tantrakalender
ATTACH;FMTTYPE=image/png:https://www.tantrazentrum-leipzig.de/wp-content/uploads/2016/03/diamondLotus_a.png
ORGANIZER;CN="Diamond Lotus%2C Berlin":MAILTO:anfrage@diamond-lotus.de
END:VEVENT
BEGIN:VEVENT
DTSTART;TZID=Europe/Berlin:20180720T173000
DTEND;TZID=Europe/Berlin:20180720T213000
DTSTAMP:20260421T122336
CREATED:20180105T165242Z
LAST-MODIFIED:20180408T132627Z
UID:1338-1532107800-1532122200@www.tantrazentrum-leipzig.de
SUMMARY:Quantum-Light-Breath
DESCRIPTION:An diesem Abend gibt es die Möglichkeit Sarah kennen zu lernen und in einer geführten intensivem Atem-Meditation von Jerru Kaball einen transformierenden Prozess zu erleben. Dazu eine theoretische Einführung\, die sich mit der Entstehung\, der Wirkweise und den Möglichkeiten der bewusstseinsvertiefenden Atmung beschäftigt. \nSarah Lenze lehrt seit vielen Jahren zusammen mit Dirk Liesenfeld den tantrischen Weg der Selbsterkenntnis. \nTermin: Freitag\, 20.7. ab 17:30 (bis 21:30)\nKosten: 20€ Normalpreis (Ermäßigt 15€ für Einkommen bis 1500€\, 10€ für Geringverdiener unter 800€)\nOrt: Yogaladen-Leipzig\, Stefan-Zweig-Str. 21\, 04178 Leipzig\nAnmeldung über das Anmeldeformular 
URL:https://www.tantrazentrum-leipzig.de/event/quantum-light-breath/
LOCATION:Yogaladen-Leipzig\, Stefan-Zweig-Str. 21\, Leipzig\, 04178\, Deutschland
ATTACH;FMTTYPE=image/png:https://www.tantrazentrum-leipzig.de/wp-content/uploads/2016/03/cropped-0911_tantraLoutusFrei-e1458056095516.png
ORGANIZER;CN="Tantrazentrum-Leipzig":MAILTO:info (ät) helfried.de
END:VEVENT
BEGIN:VEVENT
DTSTART;TZID=Europe/Berlin:20180720T180000
DTEND;TZID=Europe/Berlin:20180720T210000
DTSTAMP:20260421T122336
CREATED:20180707T095831Z
LAST-MODIFIED:20180707T095831Z
UID:1487-1532109600-1532120400@www.tantrazentrum-leipzig.de
SUMMARY:Massage-Austausch
DESCRIPTION:Berühren und berührt werden ist das innigste\, intensivste\, intimste und schönste\, sich zu begegnen. \nLiebe Freunde der Tantramassage\, \nSommer\, Sommer\, Sonne – pralles Leben – Anreiz für achtsame Berührungen\, für Da sein\, für Fühlen\, gegenseitiges Verwöhnen\, gegenseitiges Vertrauen. All das könnt ihr tun zu unserem nächsten Massageaustausch im Yogastudio satyamyoga in Schleußig\, 04229 Leipzig\, Oeserstr. 33a . \nDen Abend wird Hella mit ihren frisch gewonnenen Erkenntnissen und Erfahrungen aus dem gerade beendeten Massageseminar gestalten. (Darauf freue ich mich besonders.) \nMelde Dich bitte zeitnah an\, spätestens bis zum Dienstag\, den  17.07. unter siro.roland@aol.de \nWir freuen uns über jeden\, der freudig\, vertrauensvoll und achtsam eine schöne Zeit mitgestalten möchte. \nDer Unkostenbeitrag beträgt 15.– €. \nNach deiner Anmeldung erhältst Du nach dem Anmeldeschluss\, also am 18.07. eine Bestätigung und die weiteren Details. \nHerzliche Grüße\nNamasté\nHella und Roland
URL:https://www.tantrazentrum-leipzig.de/event/massage-austausch-4/
LOCATION:Satyam Yoga\, Leipzig\, Deutschland
ATTACH;FMTTYPE=image/jpeg:https://www.tantrazentrum-leipzig.de/wp-content/uploads/2016/03/201601_massage_3322a-e1471543460771.jpg
END:VEVENT
BEGIN:VEVENT
DTSTART;TZID=Europe/Berlin:20180721T100000
DTEND;TZID=Europe/Berlin:20180721T170000
DTSTAMP:20260421T122336
CREATED:20180105T170102Z
LAST-MODIFIED:20180409T121042Z
UID:1341-1532167200-1532192400@www.tantrazentrum-leipzig.de
SUMMARY:Bewusstseinsvertiefendes Atmen
DESCRIPTION:Das bewusstseinsvertiefende Atmen ist ein Bindeglied zwischen spirituellen Erfahrungsräumen und therapeutischer Arbeit. Zusammen mit Musik versetzt uns die vertiefte Atmung in einen Zustand des erweiterten Bewusstseins und erweiterter Wahrnehmung. Darin können wir Zugriff auf universell-göttliches und archaisches Wissen erlangen. Es können nährende und unsere Seele befreiende Zustände erfahren/erlebt werden\, aus denen heraus wir heilende und klärende Einsichten in unser Leben erhalten können. \nSarah Lenze lehrt seit vielen Jahren zusammen mit Dirk Liesenfeld den tantrischen Weg der Selbsterkenntnis. \nTermin: Samstag\, 21.7. von 10:00 bis 17:00 Uhr\nKosten: 100€ Normalpreis (Ermäßigt 75€ für Einkommen bis 1500€\, 50€ für Geringverdiener unter 800€)\nOrt: Yogaladen-Leipzig\, Stefan-Zweig-Str. 21\, 04178 Leipzig\nAnmeldung über das Anmeldeformular \nP.S.: Wer Sarah erst mal kennen lernen möchte\, ist am Abend vorher zur Quantum-Light-Breath (QLB) eingeladen
URL:https://www.tantrazentrum-leipzig.de/event/holotropes-atmen-und-selbsterkenntnis/
LOCATION:Yogaladen-Leipzig\, Stefan-Zweig-Str. 21\, Leipzig\, 04178\, Deutschland
ATTACH;FMTTYPE=image/png:https://www.tantrazentrum-leipzig.de/wp-content/uploads/2016/03/cropped-0911_tantraLoutusFrei-e1458056095516.png
ORGANIZER;CN="Tantrazentrum-Leipzig":MAILTO:info (ät) helfried.de
END:VEVENT
BEGIN:VEVENT
DTSTART;TZID=Europe/Berlin:20180730T183000
DTEND;TZID=Europe/Berlin:20180730T220000
DTSTAMP:20260421T122336
CREATED:20180309T103451Z
LAST-MODIFIED:20180722T110931Z
UID:1404-1532975400-1532988000@www.tantrazentrum-leipzig.de
SUMMARY:Tantra Schnupperabend
DESCRIPTION:Was verbirgt sich hinter dem schillernden Begriff Tantra? \nEine uralte Erfahrungswissenschaft\, eine Lebenseinstellung\, eine Philosophie bzw. Weltanschauung\, ein Beziehungs-Yoga\, bestimmte Sexualpraktiken\, Selbsterfahrung\, Persönlichkeitsentwicklung\, … Achtsamkeit\, Selbst-Annahme\, Mitgefühl\, die Kunst zu lieben\, … Und was verbirgt sich hinter deinem Interesse für Tantra? \nAn diesem Abend möchten wir euch einen kleinen Einblick in die Philosophie und Praxis von Tantra geben. Mit einem Vortrag\, Meditation und Kontakt-Übungen werden Geist und Sinne angesprochen. Dieser Abend ist eine Möglichkeit\, für den Anschließenden Tantra-Einsteigerkurs uns mal kennen zu lernen. \nLeitung: Helfried\nOrt: Yogaladen-Leipzig\nZeit: Mo\, 30.7.2018 um 18:30 (bis 21:30)\nPreis:  auf Spendenbasis
URL:https://www.tantrazentrum-leipzig.de/event/tantra-schnupperabend-3/
LOCATION:Yogaladen-Leipzig\, Stefan-Zweig-Str. 21\, Leipzig\, 04178\, Deutschland
ATTACH;FMTTYPE=image/png:https://www.tantrazentrum-leipzig.de/wp-content/uploads/2016/03/cropped-0911_tantraLoutusFrei-e1458056095516.png
ORGANIZER;CN="Tantrazentrum-Leipzig":MAILTO:info (ät) helfried.de
END:VEVENT
BEGIN:VEVENT
DTSTART;TZID=Europe/Berlin:20180731T100000
DTEND;TZID=Europe/Berlin:20180731T170000
DTSTAMP:20260421T122336
CREATED:20180730T212329Z
LAST-MODIFIED:20180730T212329Z
UID:1495-1533031200-1533056400@www.tantrazentrum-leipzig.de
SUMMARY:Tantra-Workshop auf dem Klima-Camp
DESCRIPTION:Klimawandel bedeutet nicht nur anderes Wetter\, sondern auch die Herausforderung\, kulturell mit neuen Bedingungen um zu gehen. Wie wollen wir leben\, wenn mit den letzten Kohle- und Atom-Meilern hoffentlich auch die politischen Fossilien zu Asche transformiert werden. \nTantra liefert ein jahrhunderte altes Wissen um Liebe und Sexualität. Heute würde man sagen „Sexpositiv“. Wir können uns so einfach so viel Wärme gegenseitig geben\, aber wir müssen es lernen und dabei teilweise gegen den Mainstream schwimmen. \nIm Rahmen der Sommerschule und dem Klima-Camp geben Helfried und Soluna einen Tantra-Workshop von 10 Uhr bis 17:30 in Pödelwitz in der Entspannungsjurte.
URL:https://www.tantrazentrum-leipzig.de/event/tantra-workshop-auf-dem-klima-camp/
LOCATION:Klima-Camp\, Entspannungsjurte\, Pödelwitz\, Groitzsch\, 04539 
ATTACH;FMTTYPE=image/png:https://www.tantrazentrum-leipzig.de/wp-content/uploads/2016/03/cropped-0911_tantraLoutusFrei-e1458056095516.png
ORGANIZER;CN="Tantrazentrum-Leipzig":MAILTO:info (ät) helfried.de
END:VEVENT
END:VCALENDAR