BEGIN:VCALENDAR
VERSION:2.0
PRODID:-//Tantrazentrum-Leipzig - ECPv6.15.16//NONSGML v1.0//EN
CALSCALE:GREGORIAN
METHOD:PUBLISH
X-WR-CALNAME:Tantrazentrum-Leipzig
X-ORIGINAL-URL:https://www.tantrazentrum-leipzig.de
X-WR-CALDESC:Veranstaltungen für Tantrazentrum-Leipzig
REFRESH-INTERVAL;VALUE=DURATION:PT1H
X-Robots-Tag:noindex
X-PUBLISHED-TTL:PT1H
BEGIN:VTIMEZONE
TZID:Europe/Berlin
BEGIN:DAYLIGHT
TZOFFSETFROM:+0100
TZOFFSETTO:+0200
TZNAME:CEST
DTSTART:20190331T010000
END:DAYLIGHT
BEGIN:STANDARD
TZOFFSETFROM:+0200
TZOFFSETTO:+0100
TZNAME:CET
DTSTART:20191027T010000
END:STANDARD
BEGIN:DAYLIGHT
TZOFFSETFROM:+0100
TZOFFSETTO:+0200
TZNAME:CEST
DTSTART:20200329T010000
END:DAYLIGHT
BEGIN:STANDARD
TZOFFSETFROM:+0200
TZOFFSETTO:+0100
TZNAME:CET
DTSTART:20201025T010000
END:STANDARD
BEGIN:DAYLIGHT
TZOFFSETFROM:+0100
TZOFFSETTO:+0200
TZNAME:CEST
DTSTART:20210328T010000
END:DAYLIGHT
BEGIN:STANDARD
TZOFFSETFROM:+0200
TZOFFSETTO:+0100
TZNAME:CET
DTSTART:20211031T010000
END:STANDARD
END:VTIMEZONE
BEGIN:VEVENT
DTSTART;TZID=Europe/Berlin:20200904T173000
DTEND;TZID=Europe/Berlin:20200906T153000
DTSTAMP:20260422T134839
CREATED:20200803T135034Z
LAST-MODIFIED:20200803T135034Z
UID:2403-1599240600-1599406200@www.tantrazentrum-leipzig.de
SUMMARY:Geheimnisse der Lebenslust
DESCRIPTION:„Geheimnisse der Lebenslust“ ist ideal für Einsteiger. Du kannst ohne vorherige Erfahrung mit Seminaren daran teilnehmen\, denn die systematischen Übungen nehmen dir die Erarbeitung der Vorkenntnisse ab! \nWir möchten dieses Seminar auf Spendenbasis geben\, damit auch Menschen mit weniger Geld im Beutel die Chance haben\, niveauvolles Tantra von Anfang an kennen zu lernen und ihr die risikofreie Möglichkeit habt\, zu verstehen\, was unser integrales Tantra ist. \nMehr bei Secret-of-Tantra
URL:https://www.tantrazentrum-leipzig.de/event/geheimnisse-der-lebenslust-25/
LOCATION:Parimal – Gut Hübenthal\, bei Kassel\, Hübenthal 1 \, Witzenhausen \, 37218 
ATTACH;FMTTYPE=image/gif:https://www.tantrazentrum-leipzig.de/wp-content/uploads/2016/03/SOT-Logo.gif
ORGANIZER;CN="Secret-of-Tantra":MAILTO:kontakt@secret-of-tantra.de
END:VEVENT
BEGIN:VEVENT
DTSTART;TZID=Europe/Berlin:20200905T100000
DTEND;TZID=Europe/Berlin:20200905T213000
DTSTAMP:20260422T134839
CREATED:20200803T143518Z
LAST-MODIFIED:20200803T143930Z
UID:2409-1599300000-1599341400@www.tantrazentrum-leipzig.de
SUMMARY:Yoga-Sommerfest Leipzig
DESCRIPTION:Das Leipziger Yoganetzwerk läd ein zum Sommerfest im Richard-Wagner-Hain (am Elsterufer\, hinter Zierlich-Manierlich). Über den ganzen Tag Yogastunden und abends Mantrasingen und Tanzen. Wir treffen uns unterm Sternenzelt und drum herum. Bei schlecht Wetter bietet unser Sternenzelt schutz für 15 – 30 Leute. \nDas Programm:\n10:00 Holm Hänsel\,  YOGA MACHT STARK\n10:00  Luisa Jodeit: Sunrise Yoga\n12:00 Jacqueline Jurisch \,  Mit Sattva Himalaya Kundalini Yoga die Kraft der Selbstheilung wecken:\n12:00 Elena Dreissig\, Yoga-Flow\n14:30 Klaus-Eckart & Anusch Lehmann:  Yin-Mantra-Stunde\n14:30 Helfried & Soluna: Tantra-Schupperworkshop.\nIm Tantra wird eine ganzheitliche Spiritualität gelehrt\, die Herzöffnung\, geistige Klarheit und sexuelle Kraft harmonisch zusammen bringen möchte. Wir öffnen unsere Sinne und erkennen das Göttliche in uns und anderen. Tantra verbindet Liebe und Sexualität mit spiritueller Yogapraxis. In diesem Workshop geben wir einen kleinen Einblick in die tantrische Lehre und Erfahrungswissenschaft.\n16:30 Rüdiger: authentisches Kundaliniyoga und Gongmeditation \n19:00: Mantra-Konzert mit Noa Har Anand and friends\nSinge von Herzen und es beginnt in die Welt hinaus zu leuchten. Lass dich überraschen von der Freude\, die durch deine Adern tanzt\, wenn du deine Augen schließt und beginnst zu singen. Komm zum Mantra-Konzert. Let`s celebrate the sound of our hearts! \n20:00 Party mit Mitbring-Buffet und draußen Tanzen \nWeiteres bei Leipzigeryoganetzwerk
URL:https://www.tantrazentrum-leipzig.de/event/yoga-sommerfest-leipzig/
LOCATION:Richard-Wagner-Hain\, Leipzig
ATTACH;FMTTYPE=image/jpeg:https://www.tantrazentrum-leipzig.de/wp-content/uploads/2018/02/LYN_Logo_grafik150.jpg
END:VEVENT
BEGIN:VEVENT
DTSTART;TZID=Europe/Berlin:20200912T100000
DTEND;TZID=Europe/Berlin:20200913T183000
DTSTAMP:20260422T134839
CREATED:20200804T141230Z
LAST-MODIFIED:20200804T141230Z
UID:2425-1599904800-1600021800@www.tantrazentrum-leipzig.de
SUMMARY:Authentische Berühungen
DESCRIPTION:Teil 1: Inneres Kind und Teenager: Nachnähren und Erforschen\n​Sa/So 12../13. September 2020 je 10.30 – 18.30 Uhr \n(Achtung – die Zeiten sind unter Vorbehalt\, eventuell beginnt dieser Workshop schon am Freitagabend und mit einem verkürzten Samstag.) \n​ \nTeil 2: Die Liebenden : in der Tiefe berühren\nSa/So 26./27. September 2020 je 10.30 – 18.30 Uhr \n​Sehnst du dich nach Berührung und fühlst dich in deinen Beziehungen nicht erfüllt\, haben deine PartnerInnen andere Wünsche als du oder findest du keine. Vermischst du den Wunsch nach Sex mit kindlichen Bedürfnissen oder hast du die Lust auf Sex (in deiner Beziehung oder überhaupt) aufgegeben\, weil sich irgendetwas daran nicht gut anfühlt ? \nPreis je Wochenende 150 bis 200€ \nMehr bei Claudia Hoffmann
URL:https://www.tantrazentrum-leipzig.de/event/authentische-beruehungen/
LOCATION:Tempel der Göttin\, Windorferstraße 5\, Leipzig\, 04229 
ATTACH;FMTTYPE=image/jpeg:https://www.tantrazentrum-leipzig.de/wp-content/uploads/2018/04/TempelDerGoettin.jpg
END:VEVENT
BEGIN:VEVENT
DTSTART;TZID=Europe/Berlin:20200916T080000
DTEND;TZID=Europe/Berlin:20200916T170000
DTSTAMP:20260422T134839
CREATED:20200804T141931Z
LAST-MODIFIED:20200804T142505Z
UID:2427-1600243200-1600275600@www.tantrazentrum-leipzig.de
SUMMARY:Übungsgruppe persönliche Grenzen
DESCRIPTION:​Erspüre deine persönlichen Grenzen – Nimm deinen (Energie-)körper wahr \nMit Übungen nach dem Wheel of Consent \nWelche Dinge im Leben tun wir (die wir eigentlich nicht tun wollen.)\nWelche Dinge tun wir nicht ( die wir eigentlich tun wollen.)\nMit welchen Menschen halten wir Verbindung ( die wir eigentlich lieber nicht halten würden)\nWo sind unsere Lebensentscheidungen bestimmt von Angst\, etwas zu verlieren\, Angst vor Einsamkeit …. unter gefühltem Druck\, bestimmte Dinge tun und andere lassen zu müssen.\nWeil sonst … – ja\, was eigentlich ??? \nPreis: 180 bis 200€ \nAnmeldung und Mehr bei Claudia Hoffmann \n 
URL:https://www.tantrazentrum-leipzig.de/event/uebungsgruppe-persoenliche-grenzen-2/
LOCATION:Tempel der Göttin\, Windorferstraße 5\, Leipzig\, 04229 
ATTACH;FMTTYPE=image/jpeg:https://www.tantrazentrum-leipzig.de/wp-content/uploads/2018/04/TempelDerGoettin.jpg
END:VEVENT
BEGIN:VEVENT
DTSTART;TZID=Europe/Berlin:20200917T200000
DTEND;TZID=Europe/Berlin:20200917T200000
DTSTAMP:20260422T134839
CREATED:20200803T120719Z
LAST-MODIFIED:20200803T120719Z
UID:2399-1600372800-1600372800@www.tantrazentrum-leipzig.de
SUMMARY:Handarbeitsabend
DESCRIPTION:Die Handarbeitsabende/ Handwerkerabende sind ein Format\, das sich seit 3 Jahren immer größerer Beliebtheit erfreut. Und das freut mich so sehr\, denn in deutschen Betten ist es – nicht nur für die Frauen – häuffig immer noch zu eintönig und der Sex zu egozentriert. All zu oft klagen Paare in der Therapie über Lustlosigkeit\, wie sich dann aber häufig raus stellt ist es nur die Lustlosigkeit auf den Sex\, der gerade im Angebot ist\, auf den der Partner/ die Partnerin keine Lust hat.  \nDa ist es doch toll\, dass 95% unserer Sexualtiät gelernt sind. Wir können uns jederzeit verändern und dazu lernen. Und Sexual Coachin ist eh gerade ein tolles Thema.  \nIn Geschlechter getrennten Gruppen vermittel ich Ansätze und Ideen einmal anders an die partnerschaftliche Sexualität heran zu gehen. Achtsamkeit\, Präsenz und Aufmerksamkeit spielen dabei ebenso eine große Rolle wie wie das loslassen der Zielorientierung auf den Orgasmus. Es geht bei gutem Sex doch eher um eine gemütliche Cabriofahrt mit vielen kleinen Stopps an einem schönen Sonntag\, egal wie weit man am Ende kommt. Und nicht um einen möglichst schnellen und kurzen weg von A nach B.  \nIn diese Abende fliessen mein Wissen aus über 10 Jahren Tantramassage ein ebenso das Potential meiner sexualtherapeutischen Arbeit und dem Wissen\, mit welchen Fragen Einzelpersonen und Paare zu mir kommen.  \nNeben Anatomie\, wie groß ist die Klitoris und wo genau liegt die Prostata\, vermittel ich den knapp 2 Stunden eine schöne Coreographie für eine Intimmassage des Partners. Aber mindestens genau so wichtig ist der Austausch der Teilnehmer untereinander. Die häufig erste erleichternde Erkenntnis ist\, dass andere Paare mit den selben Themen kämpfen. Allzuoft höre ich Sätze wie: „Und cih dachte\, nur mein Partner wäre so“; … \nBesonderer Beliebtheit erfreuen sich gerade die Handrabeitsabende für Frauen\, denn gerade Frauen wissen häufig immer noch zu wenig über Ihr eigenes Geschlecht\, gerade den Vaginalen Innenraum. Und wie soll ich dem Partner \, der Partnerin kommnizieren was ich mir wünsche\, wenn ich selbst es nicht weiss oder ausdrücken kann. Eine schöne möglichkeit ist auch die geführte Schoßraum Meditation\, in der Frau in 2 Stunden meditativ Ihren Beckenboden und Schoßraum erforscht.  \n\n\n\nTermine fürs 2. Halbjahr\n\nHandarbeitsabend Basic:  17.09\, 5.11.\, 14.11\, 10.12\, und 14.01.21\nhttps://www.massagen-in-leipzig.de/handarbeitsabend/\nHandarbeitsabend Advanced:  26.11 und 28.01\nhttps://www.massagen-in-leipzig.de/handarbeitsabend/\nHandwerkerabend: 12.11 und 3.2.21\nhttps://www.massagen-in-leipzig.de/handwerkerabend/\nHandarbeitsabend für die Frau:  02.12 und 04.02.21\nhttps://www.massagen-in-leipzig.de/handarbeitsabend-me-myself-and-i/\n\ngeführte Schoßraum Meditation für Frauen.   17.12.\nhttps://www.massagen-in-leipzig.de/handarbeitsabend-me-myself-and-i/
URL:https://www.tantrazentrum-leipzig.de/event/handarbeitsabend-2/
LOCATION:Heilpraxis – Natur und Psyche\, Leipzig\, Hahnemannstr. 7\, Leipzig\, 04177 
ATTACH;FMTTYPE=image/png:https://www.tantrazentrum-leipzig.de/wp-content/uploads/2016/03/momoart.png
END:VEVENT
BEGIN:VEVENT
DTSTART;TZID=Europe/Berlin:20200918T180000
DTEND;TZID=Europe/Berlin:20200918T210000
DTSTAMP:20260422T134839
CREATED:20190222T131339Z
LAST-MODIFIED:20200909T202440Z
UID:1753-1600452000-1600462800@www.tantrazentrum-leipzig.de
SUMMARY:Tantrischer Massageaustausch
DESCRIPTION:Liebe Freunde der Tantramassage\, \nwir hoffen ihr hattet einen genussvollen\, aktiven Sommer. Die ersten Veranstaltungen sind wieder gestartet\, wenn auch geprägt durch veränderte Bedingungen.  Wir möchten uns wieder mit Euch für einen Massage Austausch treffen. Körper und Seele sehnen sich nach achtsamen Berührungen. Wir werden auf die neue Situation Rücksicht nehmen\, dennoch\, melde dich nur an\, wenn du dich in kleiner Gruppe von Menschen wohl fühlst und Nähe zulassen kannst.\nWir freuen uns auf schöne Stunden\, und laden Euch dazu ein. \n\nDer Abend findet am  18.09.2020\, 18.00 bis ca. 21.00 Uhr \nim yogastudio satyamyoga in Schleußig\, 04229 Leipzig\, Oeserstr. 33a statt. \nMeldet Euch bitte zeitnah an\, spätestens bis zum Dienstag\, den 15.09. unter         siro.roland@aol.de \nDer Unkostenbeitrag beträgt 15.– €. \nDu erhältst nach dem Anmeldeschluss\, also am 16.09. die endgültige Bestätigung und die weiteren Details. \nHerzliche Grüße\, Namasté\, Hella und Roland
URL:https://www.tantrazentrum-leipzig.de/event/tantrischer-massageaustausch/
LOCATION:Satyam Yoga\, Leipzig\, Deutschland
ATTACH;FMTTYPE=image/jpeg:https://www.tantrazentrum-leipzig.de/wp-content/uploads/2016/03/201601_massage_3322a-e1471543460771.jpg
END:VEVENT
BEGIN:VEVENT
DTSTART;TZID=Europe/Berlin:20200920T140000
DTEND;TZID=Europe/Berlin:20200920T190000
DTSTAMP:20260422T134839
CREATED:20200804T140317Z
LAST-MODIFIED:20200804T140317Z
UID:2420-1600610400-1600628400@www.tantrazentrum-leipzig.de
SUMMARY:Tempel-Heil-Massage
DESCRIPTION:Vertiefe die Verbindung mit deinem Körper als dem Ort deiner Spiritualität \nZeremonie in Anknüpfung an traditionelle Tempel-Heilung \nDie alten Tempel waren Orte\, die die Menschen u.a. dann aufsuchten\, wenn ihr Körper oder Energiekörper aus dem Gleichgewicht gekommen waren. Je eher eine leichte Irritation gespürt und erkannt wird\, desto leichter kann sie wiederhergestellt werden. \n​Die Priesterinnen-Heilerinnen spürten die Orte im Körper und Energiekörper auf\, an denen die Irritation saß. \nMehr bei Claudia Hoffmann \n​
URL:https://www.tantrazentrum-leipzig.de/event/tempel-heil-massage/
LOCATION:Tempel der Göttin\, Windorferstraße 5\, Leipzig\, 04229 
ATTACH;FMTTYPE=image/jpeg:https://www.tantrazentrum-leipzig.de/wp-content/uploads/2018/04/TempelDerGoettin.jpg
END:VEVENT
BEGIN:VEVENT
DTSTART;TZID=Europe/Berlin:20200925T180000
DTEND;TZID=Europe/Berlin:20200927T180000
DTSTAMP:20260422T134839
CREATED:20191104T153446Z
LAST-MODIFIED:20200114T182304Z
UID:2109-1601056800-1601229600@www.tantrazentrum-leipzig.de
SUMMARY:Chakra-Workshop nach Andro
DESCRIPTION:Die aus der Indisch Tantrischen Tradition bekannten Chakras sind der Inhalt dieser drei Tage.\nBedeutung und Analyse der Befindlichkeit der jeweiligen Energiezentren sind in der therapeutischen Anwendung bei Massagen oder Körperarbeit und Sexualtherapie oft ein wichtiger Schlüssel zur Person. Wir werden in den beiden Tagen alle sieben Chakren besprechen und an uns selber identifizieren. Die Arbeit mit diesen Energiezentren ist in der Tantramassage nach Andro Bestandteil der Behandlung.\nMehr bei Diamond Lotus
URL:https://www.tantrazentrum-leipzig.de/event/chakra-workshop-mit-andro-2/
LOCATION:Diamond Lotus\, Berlin\, Bautzener Str. 3\, Berlin\, 10829\, Deutschland
CATEGORIES:Tantrakalender
ATTACH;FMTTYPE=image/png:https://www.tantrazentrum-leipzig.de/wp-content/uploads/2016/03/diamondLotus_a.png
ORGANIZER;CN="Diamond Lotus%2C Berlin":MAILTO:anfrage@diamond-lotus.de
END:VEVENT
BEGIN:VEVENT
DTSTART;TZID=Europe/Berlin:20200930T140000
DTEND;TZID=Europe/Berlin:20201004T180000
DTSTAMP:20260422T134839
CREATED:20191114T105930Z
LAST-MODIFIED:20191114T105930Z
UID:2122-1601474400-1601834400@www.tantrazentrum-leipzig.de
SUMMARY:Sesam öffne Dich
DESCRIPTION:Die Körpertypenlehre beruht im Wesentlichen auf der Charakteranalyse Wilhelm Reichs\, sowie auf den Beobachtungen und Weiterentwicklungen Alexander Lowens.\nDie Körpertypen in der Tantramassage zu berücksichtigen\, gibt Dir den passenden Schlüssel für das dazugehörige Schloss in die Hände: der dominante Körpertyp stellt den Zugang zur Quelle dar und ist Ausdruck des energetischen Potentials Deiner Massagegäste.\nDieses Seminar richtet sich vorwiegend an professionell arbeitende Tantramassierende\, die sich nicht mehr nur auf Massageabläufe und auf ihre Intuition allein verlassen wollen. Aber auch Sexual-Bodyworker und privat Massierende\, die tiefer einsteigen wollen in die Tantramassage\, sind sehr herzlich willkommen.\nMehr bei Diamond Lotus
URL:https://www.tantrazentrum-leipzig.de/event/sesam-oeffne-dich-7/
LOCATION:Diamond Lotus\, Berlin\, Bautzener Str. 3\, Berlin\, 10829\, Deutschland
CATEGORIES:Tantrakalender
ATTACH;FMTTYPE=image/png:https://www.tantrazentrum-leipzig.de/wp-content/uploads/2016/03/diamondLotus_a.png
ORGANIZER;CN="Diamond Lotus%2C Berlin":MAILTO:anfrage@diamond-lotus.de
END:VEVENT
END:VCALENDAR