BEGIN:VCALENDAR
VERSION:2.0
PRODID:-//Tantrazentrum-Leipzig - ECPv6.15.16//NONSGML v1.0//EN
CALSCALE:GREGORIAN
METHOD:PUBLISH
X-WR-CALNAME:Tantrazentrum-Leipzig
X-ORIGINAL-URL:https://www.tantrazentrum-leipzig.de
X-WR-CALDESC:Veranstaltungen für Tantrazentrum-Leipzig
REFRESH-INTERVAL;VALUE=DURATION:PT1H
X-Robots-Tag:noindex
X-PUBLISHED-TTL:PT1H
BEGIN:VTIMEZONE
TZID:Europe/Berlin
BEGIN:DAYLIGHT
TZOFFSETFROM:+0100
TZOFFSETTO:+0200
TZNAME:CEST
DTSTART:20190331T010000
END:DAYLIGHT
BEGIN:STANDARD
TZOFFSETFROM:+0200
TZOFFSETTO:+0100
TZNAME:CET
DTSTART:20191027T010000
END:STANDARD
BEGIN:DAYLIGHT
TZOFFSETFROM:+0100
TZOFFSETTO:+0200
TZNAME:CEST
DTSTART:20200329T010000
END:DAYLIGHT
BEGIN:STANDARD
TZOFFSETFROM:+0200
TZOFFSETTO:+0100
TZNAME:CET
DTSTART:20201025T010000
END:STANDARD
BEGIN:DAYLIGHT
TZOFFSETFROM:+0100
TZOFFSETTO:+0200
TZNAME:CEST
DTSTART:20210328T010000
END:DAYLIGHT
BEGIN:STANDARD
TZOFFSETFROM:+0200
TZOFFSETTO:+0100
TZNAME:CET
DTSTART:20211031T010000
END:STANDARD
END:VTIMEZONE
BEGIN:VEVENT
DTSTART;TZID=Europe/Berlin:20201106T190000
DTEND;TZID=Europe/Berlin:20201108T170000
DTSTAMP:20260424T120437
CREATED:20200804T140722Z
LAST-MODIFIED:20200804T142722Z
UID:2422-1604689200-1604854800@www.tantrazentrum-leipzig.de
SUMMARY:Making Love with Life
DESCRIPTION:Ganzkörper-Energie-Ekstase und Heilung – Ein Workshop für Frauen\nWas ist dir im Weg\, um in einem körperlichen und emotionalen Zustand ​von „bliss“ : Wohlbefinden zu leben ? \nWünschst du dir mehr Lebenskraft und stimmigere Erfahrungen beim Sex mit dir selber und anderen Menschen ? \n​Möchtest du alte ungute Erfahrungen loslassen und Platz für Neues schaffen ? \n​Suchst du vorsichtig nach sexueller Heilung ? \nKosten: 220€ \nMehr bei Claudia Hoffmann \n​
URL:https://www.tantrazentrum-leipzig.de/event/making-love-with-life/
LOCATION:Tempel der Göttin\, Windorferstraße 5\, Leipzig\, 04229 
ATTACH;FMTTYPE=image/jpeg:https://www.tantrazentrum-leipzig.de/wp-content/uploads/2018/04/TempelDerGoettin.jpg
END:VEVENT
BEGIN:VEVENT
DTSTART;TZID=Europe/Berlin:20201112T193000
DTEND;TZID=Europe/Berlin:20201112T213000
DTSTAMP:20260424T120437
CREATED:20200803T183036Z
LAST-MODIFIED:20200803T183036Z
UID:2418-1605209400-1605216600@www.tantrazentrum-leipzig.de
SUMMARY:Handwerkerabend
DESCRIPTION:Erwecke und entdecke  das weiblich-erotische Potenzial deiner Partnerin. \nDu lernst\, wie Du eine Frau selbstbewusst\, gekonnt und liebevoll berühren\, massieren und erotisch verwöhnen kannst. Ich zeige Dir – an künstlichen Modellen demonstriert – wie Du mit Intim-Massagen lustvolle Berührungen und sinnliche Momente in Dein Liebesleben bringst. Außerdem lernst du\, wie man die G-Zone finden und erwecken kann. \nMehr bei Momoart
URL:https://www.tantrazentrum-leipzig.de/event/handwerkerabend-2/
LOCATION:Heilpraxis – Natur und Psyche\, Leipzig\, Hahnemannstr. 7\, Leipzig\, 04177 
ATTACH;FMTTYPE=image/png:https://www.tantrazentrum-leipzig.de/wp-content/uploads/2016/03/momoart.png
END:VEVENT
BEGIN:VEVENT
DTSTART;TZID=Europe/Berlin:20201127T160000
DTEND;TZID=Europe/Berlin:20201129T170000
DTSTAMP:20260424T120437
CREATED:20200624T105541Z
LAST-MODIFIED:20201101T211555Z
UID:2330-1606492800-1606669200@www.tantrazentrum-leipzig.de
SUMMARY:Massage  – sinnlich und dynamisch
DESCRIPTION:AKTUELL sind alle Seminar aufgrund der Corona-Schutzverordnung verboten. Bitte melde dein Interesse an und wir schauen nach legalen Terminen. \nDie Kunst der Berührung will gelernt werden. Am Anfang stehen Massage-Grundlagen\, Griffe\, Hintergrundwissen und ein Ablauf. Im Kern wird deine Berührungsqualität aber vor allem geprägt durch deine innere und äußere Haltung. Hier wollen wir an diesem Wochenende weiter machen. \nMassage als Verehrung sinnlicher Freude. Wir widmen uns Berührungsqualität im Detail\, Grundlagen körpertherapeutischer Arbeit\, Selbsterfahrung\, Präsenz und Gelassenheit im Umgang mit seelischen Qualitäten. Als Empfänger werden wir genießen können und Hingabe üben. \nLeitung: Helfried und Soluna \nOrt: Yogaladen-Leipzig\,\nStefan-Zweig-Str. 21\, 04178 Leipzig \nKosten: 240 € normal\n180 € ermäßigt für Geringverdiener bis 1500 € monatlich\, 120 € Sozialpreis für Einkommen unter 800 €\, wenn du dich mindestens 14 Tage vorher anmeldest. Die Anzahl der Sozial-Preis Plätze kann begrenzt sein. \nPreise zuzüglich Unterkunft und Verpflegung. Bitte sage bei der Anmeldung ob du Ermäßigung in Anspruch nehmen möchtest und ob du für Selbstverpflegung oder bekochen lassen bist. Wir können uns durch Mitbring-Buffet gemeinsam verpflegen oder für 25€/Tag bekochen lassen. Erfahrungsgemäß möchte die Mehrheit sich bekochen lassen. \nEs ist allgemein entspannter\, wenn du durchgehend dabei bist und dich keine Heimfahrten aus dem sanften Massage-Raum herausreißen. Übernachtung im Gruppenraum kostet 5€/Nacht (mit eigenem Bettzeug/Schlafsack). \nVoraussetzungen: Massage-Grundlagen sollten dir geläufig sein\, z.B. aus einem Wochend-Seminar (M1) oder anderen Ausbildungen. Wenn wir dich noch nicht kennen\, führen wir gerne ein telefonisches Vorgespräch über deine Vorkenntnisse. \nWeiter geht es dannach mit der Yoni- und Lingam-Massage an\, als „Königs-Disziplin“ der Tantramassage. 4 Tage intensiv (oder als individuelle Veranstaltung für Kleingruppen und Paare  2+1-Massage ). Für die spirituellen Hintergründe empfehlen wir den Tantra-Einsteigerkurs T1. \nAnmeldung per Mail oder Formular \nWir achten auf ein ausgeglichenes Geschlechterverhältnis\, daher kann es sein\, dass du zunächst auf der Warteliste landest.
URL:https://www.tantrazentrum-leipzig.de/event/m2_2020_10/
LOCATION:Yogaladen-Leipzig\, Stefan-Zweig-Str. 21\, Leipzig\, 04178\, Deutschland
ATTACH;FMTTYPE=image/jpeg:https://www.tantrazentrum-leipzig.de/wp-content/uploads/2020/06/P1000657a.jpg
ORGANIZER;CN="Tantrazentrum-Leipzig":MAILTO:info (ät) helfried.de
END:VEVENT
END:VCALENDAR